BEGIN:VCALENDAR
VERSION:2.0
PRODID:-//ChamberMaster//Event Calendar 2.0//EN
METHOD:PUBLISH
X-PUBLISHED-TTL:P3D
REFRESH-INTERVAL:P3D
CALSCALE:GREGORIAN
BEGIN:VEVENT
DTSTART:20110218T000000Z
DTEND:20110218T000000Z
X-MICROSOFT-CDO-ALLDAYEVENT:FALSE
SUMMARY:Winter Theatre Production
DESCRIPTION:A Number by Caryl Churchill\nWinner of the Evening Standard Award for Best Play\n\nAn aging parent is visited by a child.  Or is it the child's clone?  What has happened to that child and to the twenty clones created years ago?  Caryl Churchill\,one of England's most celebrated playwrights\, bring us this provocative psychological thriller that blends topical scientific speculation with a stunning portrait of the relationship between parent and child.
X-ALT-DESC;FMTTYPE=text/html:A Number by Caryl Churchill\nWinner of the Evening Standard Award for Best Play\n\nAn aging parent is visited by a child.  Or is it the child's clone?  What has happened to that child and to the twenty clones created years ago?  Caryl Churchill\,one of England's most celebrated playwrights\, bring us this provocative psychological thriller that blends topical scientific speculation with a stunning portrait of the relationship between parent and child.
LOCATION:Founders Auditorium at The Ohio State University at Mansfield
UID:e.2256.341
SEQUENCE:3
DTSTAMP:20260425T003512Z
URL:https://portal.richlandareachamber.com/events/details/winter-theatre-production-02-17-2011-341
END:VEVENT

END:VCALENDAR
