BEGIN:VCALENDAR
VERSION:2.0
PRODID:-//ChamberMaster//Event Calendar 2.0//EN
METHOD:PUBLISH
X-PUBLISHED-TTL:P3D
REFRESH-INTERVAL:P3D
CALSCALE:GREGORIAN
BEGIN:VEVENT
DTSTART:20110118T220000Z
DTEND:20110118T220000Z
X-MICROSOFT-CDO-ALLDAYEVENT:FALSE
SUMMARY:Winter Theatre Auditions
DESCRIPTION:The OSU Mansfield Theatre will hold auditions for A Number by Caryl Churchill on January 18 and 19 at 6 p.m. in Founders Auditorium.\n	A welcome party featuring free pizza and show information will be held on January 18 at 5 p.m. in Ovalwood 476.\n	One of England's most celebrated playwrights\, Caryl Churchill brings us this provocative psychological thriller that blends topical scientific speculation with a stunning portrait of the relationship between parent and child.\n	For more information\, contact Dr. Joseph Fahey at 419-755-4276.
X-ALT-DESC;FMTTYPE=text/html:The OSU Mansfield Theatre will hold auditions for A Number by Caryl Churchill on January 18 and 19 at 6 p.m. in Founders Auditorium.\n	A welcome party featuring free pizza and show information will be held on January 18 at 5 p.m. in Ovalwood 476.\n	One of England's most celebrated playwrights\, Caryl Churchill brings us this provocative psychological thriller that blends topical scientific speculation with a stunning portrait of the relationship between parent and child.\n	For more information\, contact Dr. Joseph Fahey at 419-755-4276.\n	
LOCATION:Founders Auditorium in Ovalwood Hall at The Ohio State University at Mansfield
UID:e.2256.380
SEQUENCE:3
DTSTAMP:20260425T020841Z
URL:https://portal.richlandareachamber.com/events/details/winter-theatre-auditions-01-18-2011-380
END:VEVENT

END:VCALENDAR
