BEGIN:VCALENDAR
VERSION:2.0
PRODID:-//ChamberMaster//Event Calendar 2.0//EN
METHOD:PUBLISH
X-PUBLISHED-TTL:P3D
REFRESH-INTERVAL:P3D
CALSCALE:GREGORIAN
BEGIN:VEVENT
DTSTART:20101218T180000Z
DTEND:20101218T210000Z
X-MICROSOFT-CDO-ALLDAYEVENT:FALSE
SUMMARY:Winter Solstice Celebration
DESCRIPTION:Winter Solstice Celebration Saturday December 18th. 1:00 PM - 4:00 PM\n\nBring your family and friends to the Mohican Outdoor School Hemlock Falls Center. Enjoy a winter hike\, visit with Santa\, make an ornament to take home & help decorate a winter tree to feed the birds. Cookies and hot chocolate will be served. \n\nCost: $5.00 per person\, additional fee for a picture with Santa. \n\nAll proceeds go to Mohican Outdoor School.
X-ALT-DESC;FMTTYPE=text/html:Winter Solstice Celebration Saturday December 18th. 1:00 PM - 4:00 PM\n\nBring your family and friends to the Mohican Outdoor School Hemlock Falls Center. Enjoy a winter hike\, visit with Santa\, make an ornament to take home & help decorate a winter tree to feed the birds. Cookies and hot chocolate will be served. \n\nCost: $5.00 per person\, additional fee for a picture with Santa. \n\nAll proceeds go to Mohican Outdoor School.\n
LOCATION:Hemlock Falls Center is located on the East side of Bunker Hill Rd. N. It is between Routes 97 & 95.
UID:e.2256.372
SEQUENCE:3
DTSTAMP:20260425T033520Z
URL:https://portal.richlandareachamber.com/events/details/winter-solstice-celebration-12-18-2010-372
END:VEVENT

END:VCALENDAR
