BEGIN:VCALENDAR
VERSION:2.0
PRODID:-//ChamberMaster//Event Calendar 2.0//EN
METHOD:PUBLISH
X-PUBLISHED-TTL:P3D
REFRESH-INTERVAL:P3D
CALSCALE:GREGORIAN
BEGIN:VEVENT
DTSTART;VALUE=DATE:20110520
DTEND;VALUE=DATE:20110521
TRANSP:TRANSPARENT
X-MICROSOFT-CDO-ALLDAYEVENT:TRUE
SUMMARY:What's Wrong With This Picture
DESCRIPTION:What's Wrong With This Picture?  Main Stage   May 13-14 & 20-22 \n\nMansfield Playhouse - 419-522-2883 - www.mansfieldplayhouse.com
X-ALT-DESC;FMTTYPE=text/html:What's Wrong With This Picture?  Main Stage   May 13-14 & 20-22 \n\nMansfield Playhouse - 419-522-2883 - www.mansfieldplayhouse.com\n
LOCATION:
UID:e.2256.448
SEQUENCE:3
DTSTAMP:20260424T212512Z
URL:https://portal.richlandareachamber.com/events/details/what-s-wrong-with-this-picture-05-20-2011-448
END:VEVENT

END:VCALENDAR
