BEGIN:VCALENDAR
VERSION:2.0
PRODID:-//ChamberMaster//Event Calendar 2.0//EN
METHOD:PUBLISH
X-PUBLISHED-TTL:P3D
REFRESH-INTERVAL:P3D
CALSCALE:GREGORIAN
BEGIN:VEVENT
DTSTART:20110906T140000Z
DTEND:20110906T050000Z
X-MICROSOFT-CDO-ALLDAYEVENT:FALSE
SUMMARY:Westinghouse District Clean-up
DESCRIPTION:Neighborhood Clean-up
X-ALT-DESC;FMTTYPE=text/html:Neighborhood Clean-up
LOCATION:Richland Newhope Parking Lot
UID:e.2256.533
SEQUENCE:3
DTSTAMP:20260424T121336Z
URL:https://portal.richlandareachamber.com/events/details/westinghouse-district-clean-up-09-06-2011-533
END:VEVENT

END:VCALENDAR
