BEGIN:VCALENDAR
VERSION:2.0
PRODID:-//ChamberMaster//Event Calendar 2.0//EN
METHOD:PUBLISH
X-PUBLISHED-TTL:P3D
REFRESH-INTERVAL:P3D
CALSCALE:GREGORIAN
BEGIN:VEVENT
DTSTART;VALUE=DATE:20091212
DTEND;VALUE=DATE:20091213
TRANSP:TRANSPARENT
X-MICROSOFT-CDO-ALLDAYEVENT:TRUE
SUMMARY:Waterfowl Watch at the Gorman Nature Center
DESCRIPTION:The annual Waterfowl Watch will be held at nearby reservoirs - meet at Gorman Nature Center \n\n\n    For more information\, please call 419-884-3764 or visit www.gormannaturecenter.org 2295 Lexington Ave. \, Mansfield\, OH 44907.
X-ALT-DESC;FMTTYPE=text/html:<p>\n    The annual Waterfowl Watch will be held at nearby reservoirs - meet at Gorman Nature Center \n</p>\n<p>\n    For more information\, please call 419-884-3764 or visit www.gormannaturecenter.org 2295 Lexington Ave. \, Mansfield\, OH 44907.\n</p>
LOCATION:
UID:e.2256.168
SEQUENCE:3
DTSTAMP:20260425T220617Z
URL:https://portal.richlandareachamber.com/events/details/waterfowl-watch-at-the-gorman-nature-center-12-12-2009-168
END:VEVENT

END:VCALENDAR
