BEGIN:VCALENDAR
VERSION:2.0
PRODID:-//ChamberMaster//Event Calendar 2.0//EN
METHOD:PUBLISH
X-PUBLISHED-TTL:P3D
REFRESH-INTERVAL:P3D
CALSCALE:GREGORIAN
BEGIN:VEVENT
DTSTART:20100213T223000Z
DTEND:20100214T040000Z
X-MICROSOFT-CDO-ALLDAYEVENT:FALSE
SUMMARY:Valentine's Dinner & Dance
DESCRIPTION:Dinner buffet served from 5:30p-7:30p at "The Willow Room" Banquet Facility. Dancing with a live DJ following dinner until 11:00p. Menu includes Prime Rib\, Chicken Picatta\, Green Beans Almandine\, Dessert Station\, Our "Signature Candy Bar" and more! $18.99/person(excludes taxes\, gratuity & beverages)
X-ALT-DESC;FMTTYPE=text/html:Dinner buffet served from 5:30p-7:30p at "The Willow Room" Banquet Facility. Dancing with a live DJ following dinner until 11:00p. Menu includes Prime Rib\, Chicken Picatta\, Green Beans Almandine\, Dessert Station\, Our "Signature Candy Bar" and more! $18.99/person(excludes taxes\, gratuity & beverages)
LOCATION:1313 S. Main St. Mansfield\, OH 44907 Overlooks The Wooldridge Woods Golf Course.
UID:e.2256.277
SEQUENCE:3
DTSTAMP:20260425T180435Z
URL:https://portal.richlandareachamber.com/events/details/valentine-s-dinner-dance-02-13-2010-277
END:VEVENT

END:VCALENDAR
