BEGIN:VCALENDAR
VERSION:2.0
PRODID:-//ChamberMaster//Event Calendar 2.0//EN
METHOD:PUBLISH
X-PUBLISHED-TTL:P3D
REFRESH-INTERVAL:P3D
CALSCALE:GREGORIAN
BEGIN:VEVENT
DTSTART:20120210T230000Z
DTEND:20120211T040000Z
X-MICROSOFT-CDO-ALLDAYEVENT:FALSE
SUMMARY:Valentine Dinner/Comedy Night
DESCRIPTION:Dinner and Comedy Night featuring comedians from the Funny Bones - Columbus\n6:00 Social Hour\n7:00 Dinner\n8:00 Comedy Show\n\n$30.00 per person includes dinner and show.  Cash Bar available.  Call 419-342-7223
X-ALT-DESC;FMTTYPE=text/html:Dinner and Comedy Night featuring comedians from the Funny Bones - Columbus\n6:00 Social Hour\n7:00 Dinner\n8:00 Comedy Show\n\n$30.00 per person includes dinner and show.  Cash Bar available.  Call 419-342-7223
LOCATION:Shelby Community & Senior Center 154 North Gamble St Shelby\, OH 44875
UID:e.2256.646
SEQUENCE:3
DTSTAMP:20260422T190736Z
URL:https://portal.richlandareachamber.com/events/details/valentine-dinner-comedy-night-02-10-2012-646
END:VEVENT

END:VCALENDAR
