BEGIN:VCALENDAR
VERSION:2.0
PRODID:-//ChamberMaster//Event Calendar 2.0//EN
METHOD:PUBLISH
X-PUBLISHED-TTL:P3D
REFRESH-INTERVAL:P3D
CALSCALE:GREGORIAN
BEGIN:VEVENT
DTSTART;VALUE=DATE:20110407
DTEND;VALUE=DATE:20110408
TRANSP:TRANSPARENT
X-MICROSOFT-CDO-ALLDAYEVENT:TRUE
SUMMARY:Twilight Gardens
DESCRIPTION:Twilight Gardens\nThursday\, April 7th\, 2011\nFriday\, April 8th\, 2011\nSaturday\, April 9th\, 2011\nSunday\, April 10th\, 20118:00 PM\n8:00 PM\n3:00 PM & 8:00 PM\n3:00 PMThe World Premiere production of Michael Thomas' latest heartwarming musical comedy! \n\nIn: Shaw and Ott Medical Off-Broadway Series\n\n\n\n\nRenaissance Theatre - www.mansfieldtickets.com - 419-522-2726
X-ALT-DESC;FMTTYPE=text/html:Twilight Gardens\nThursday\, April 7th\, 2011\nFriday\, April 8th\, 2011\nSaturday\, April 9th\, 2011\nSunday\, April 10th\, 20118:00 PM\n8:00 PM\n3:00 PM & 8:00 PM\n3:00 PMThe World Premiere production of Michael Thomas' latest heartwarming musical comedy! \n\nIn: Shaw and Ott Medical Off-Broadway Series\n\n\n\n\nRenaissance Theatre - www.mansfieldtickets.com - 419-522-2726\n
LOCATION:
UID:e.2256.420
SEQUENCE:3
DTSTAMP:20260424T212417Z
URL:https://portal.richlandareachamber.com/events/details/twilight-gardens-04-07-2011-420
END:VEVENT

END:VCALENDAR
