BEGIN:VCALENDAR
VERSION:2.0
PRODID:-//ChamberMaster//Event Calendar 2.0//EN
METHOD:PUBLISH
X-PUBLISHED-TTL:P3D
REFRESH-INTERVAL:P3D
CALSCALE:GREGORIAN
BEGIN:VEVENT
DTSTART:20100515T130000Z
DTEND:20100515T200000Z
X-MICROSOFT-CDO-ALLDAYEVENT:FALSE
SUMMARY:Tuttle Landscape Spring Fling and Cooking with Herbs
DESCRIPTION:Make spring flower shopping an event instead of a chore.  Tuttle Landscape & Garden Center will have DW Catering on site doing cooking demos with herbs. Free food samples provided!
X-ALT-DESC;FMTTYPE=text/html:Make spring flower shopping an event instead of a chore.  Tuttle Landscape & Garden Center will have DW Catering on site doing cooking demos with herbs. Free food samples provided!
LOCATION:Take Trimble Rd S. past Cook Rd intersection. Tuttles will be on the left about 1/4 of a mile down. Off St Rt 42 or Lexington Ave.turn down Trimble and Tuttles will be on the right about 1/8 mile.
UID:e.2256.312
SEQUENCE:3
DTSTAMP:20260425T134410Z
URL:https://portal.richlandareachamber.com/events/details/tuttle-landscape-spring-fling-and-cooking-with-herbs-05-15-2010-312
END:VEVENT

END:VCALENDAR
