BEGIN:VCALENDAR
VERSION:2.0
PRODID:-//ChamberMaster//Event Calendar 2.0//EN
METHOD:PUBLISH
X-PUBLISHED-TTL:P3D
REFRESH-INTERVAL:P3D
CALSCALE:GREGORIAN
BEGIN:VEVENT
DTSTART:20111023T203000Z
DTEND:20111023T203000Z
X-MICROSOFT-CDO-ALLDAYEVENT:FALSE
SUMMARY:Trek or Treat 5K
DESCRIPTION:The YMCA Running Club of Mansfield\, Ohio is sponsoring a 5K Run or Walk through the creepy\, spooky\, and possibly haunted Woodland Neighborhood of Mansfield.  All proceeds of the event will benefit Troop 121's 2012 contingent trip to Philmont Scout Ranch near Cimarron\, New Mexico.\n\nDate: Sunday\, October 23\, 2011\nLocation: Raemelton School\, 856 W. Cook Rd\, Mansfield\, OH\n\nRegistration: 4:30 PM Race Starts: 5:34pm\n $20 Race Day cost\n\nSpecial prizes for: best costume\, top three runners\, overall runners and for beating the zombie.\n- More information (registration\, sponsor form\, narrative explaining the event) on the troop website http://www.bsatroop121.com/trekortreat\n\nAny additional information:\nDavid Dauterman\, 419-566-1116\nMichelle Gilbert\, 419-610-5493
X-ALT-DESC;FMTTYPE=text/html:The YMCA Running Club of Mansfield\, Ohio is sponsoring a 5K Run or Walk through the creepy\, spooky\, and possibly haunted Woodland Neighborhood of Mansfield.  All proceeds of the event will benefit Troop 121's 2012 contingent trip to Philmont Scout Ranch near Cimarron\, New Mexico.\n\nDate: Sunday\, October 23\, 2011\nLocation: Raemelton School\, 856 W. Cook Rd\, Mansfield\, OH\n\nRegistration: 4:30 PM Race Starts: 5:34pm\n $20 Race Day cost\n\nSpecial prizes for: best costume\, top three runners\, overall runners and for beating the zombie.\n- More information (registration\, sponsor form\, narrative explaining the event) on the troop website http://www.bsatroop121.com/trekortreat\n\nAny additional information:\nDavid Dauterman\, 419-566-1116\nMichelle Gilbert\, 419-610-5493\n\n
LOCATION:Raemelton School 856 W. Cook Rd Mansfield\, OH
UID:e.2256.623
SEQUENCE:3
DTSTAMP:20260424T123517Z
URL:https://portal.richlandareachamber.com/events/details/trek-or-treat-5k-10-23-2011-623
END:VEVENT

END:VCALENDAR
