BEGIN:VCALENDAR
VERSION:2.0
PRODID:-//ChamberMaster//Event Calendar 2.0//EN
METHOD:PUBLISH
X-PUBLISHED-TTL:P3D
REFRESH-INTERVAL:P3D
CALSCALE:GREGORIAN
BEGIN:VEVENT
DTSTART:20121028T203000Z
DTEND:20121028T203000Z
X-MICROSOFT-CDO-ALLDAYEVENT:FALSE
SUMMARY:Trek or Treat 2012
DESCRIPTION:The YMCA Running Club of Mansfield\, Ohio and Mansfield St. Peter's Troop 121 are sponsoring a 5K Run or Walk through the creepy\, spooky\, and possibly haunted Woodland Neighborhood of Mansfield. All proceeds of the event will benefit Troop 121's 2013 highlight trip. Date: Sunday\, October 28\, 2012 Location: Raemelton School\, 856 W. Cook Rd\, Mansfield\, OH. Registration: 3:30 PM Race Starts: 4:30pm $20 Race Day cost. Special prizes for: best costume\, top three runners in each age group\, overall runners and for beating the mummy.  Great door prizes and treats for runners! More information (registration\, sponsor form\, narrative explaining the event) on the troop website http://www.bsatroop121.com/trekortreat Any additional information: David Dauterman\, 419-566-1116 – see you spooky people there!!
X-ALT-DESC;FMTTYPE=text/html:The YMCA Running Club of Mansfield\, Ohio and Mansfield St. Peter's Troop 121 are sponsoring a 5K Run or Walk through the creepy\, spooky\, and possibly haunted Woodland Neighborhood of Mansfield. All proceeds of the event will benefit Troop 121's 2013 highlight trip. Date: Sunday\, October 28\, 2012 Location: Raemelton School\, 856 W. Cook Rd\, Mansfield\, OH. Registration: 3:30 PM Race Starts: 4:30pm $20 Race Day cost. Special prizes for: best costume\, top three runners in each age group\, overall runners and for beating the mummy.  Great door prizes and treats for runners! More information (registration\, sponsor form\, narrative explaining the event) on the troop website http://www.bsatroop121.com/trekortreat Any additional information: David Dauterman\, 419-566-1116 – see you spooky people there!!
LOCATION:Raemelton School\, 856 W. Cook Rd\, Mansfield\, Ohio
UID:e.2256.698
SEQUENCE:3
DTSTAMP:20260420T062114Z
URL:https://portal.richlandareachamber.com/events/details/trek-or-treat-2012-10-28-2012-698
END:VEVENT

END:VCALENDAR
