BEGIN:VCALENDAR
VERSION:2.0
PRODID:-//ChamberMaster//Event Calendar 2.0//EN
METHOD:PUBLISH
X-PUBLISHED-TTL:P3D
REFRESH-INTERVAL:P3D
CALSCALE:GREGORIAN
BEGIN:VEVENT
DTSTART:20090819T170000Z
DTEND:20090819T190000Z
X-MICROSOFT-CDO-ALLDAYEVENT:FALSE
SUMMARY:Tracing Ancestry in Richland County
DESCRIPTION:Free back to school program on genealogical resources for tracing ancestors who lived in Mansfield and Richland County.
X-ALT-DESC;FMTTYPE=text/html:Free back to school program on genealogical resources for tracing ancestors who lived in Mansfield and Richland County.
LOCATION:Ohio Genealogical Society Library R13 - take Main St exit going south\; if going north exit on Cook and go north on Main by Mansfield Restaurant
UID:e.2256.77
SEQUENCE:3
DTSTAMP:20260426T035933Z
URL:https://portal.richlandareachamber.com/events/details/tracing-ancestry-in-richland-county-08-19-2009-77
END:VEVENT

END:VCALENDAR
