BEGIN:VCALENDAR
VERSION:2.0
PRODID:-//ChamberMaster//Event Calendar 2.0//EN
METHOD:PUBLISH
X-PUBLISHED-TTL:P3D
REFRESH-INTERVAL:P3D
CALSCALE:GREGORIAN
BEGIN:VEVENT
DTSTART;VALUE=DATE:20110212
DTEND;VALUE=DATE:20110213
TRANSP:TRANSPARENT
X-MICROSOFT-CDO-ALLDAYEVENT:TRUE
SUMMARY:They're Playing Our Song
DESCRIPTION:They're Playing Our Song\nThursday\, February 10th\, 2011\nFriday\, February 11th\, 2011\nSaturday\, February 12th\, 2011\nSunday\, February 13th\, 20118:00 PM\n8:00 PM\n3:00 & 8:00 PM\n3:00 PMThey're Playing Our Song is a fun and funny musical performed in our intimate Stage on Stage seating! \n\nIn: Shaw and Ott Medical Off-Broadway Series\n\n\n\n\nRenaissance Theatre - www.mansfieldtickets.com - 419-522-2726
X-ALT-DESC;FMTTYPE=text/html:They're Playing Our Song\nThursday\, February 10th\, 2011\nFriday\, February 11th\, 2011\nSaturday\, February 12th\, 2011\nSunday\, February 13th\, 20118:00 PM\n8:00 PM\n3:00 & 8:00 PM\n3:00 PMThey're Playing Our Song is a fun and funny musical performed in our intimate Stage on Stage seating! \n\nIn: Shaw and Ott Medical Off-Broadway Series\n\n\n\n\nRenaissance Theatre - www.mansfieldtickets.com - 419-522-2726\n
LOCATION:
UID:e.2256.406
SEQUENCE:3
DTSTAMP:20260425T020714Z
URL:https://portal.richlandareachamber.com/events/details/they-re-playing-our-song-02-12-2011-406
END:VEVENT

END:VCALENDAR
