BEGIN:VCALENDAR
VERSION:2.0
PRODID:-//ChamberMaster//Event Calendar 2.0//EN
METHOD:PUBLISH
X-PUBLISHED-TTL:P3D
REFRESH-INTERVAL:P3D
CALSCALE:GREGORIAN
BEGIN:VEVENT
DTSTART:20100319T230000Z
DTEND:20100319T230000Z
X-MICROSOFT-CDO-ALLDAYEVENT:FALSE
SUMMARY:The Wedding Singer
DESCRIPTION:It's 1985 and this Tony Award nominated show brings it all back home!  Based on the hit movie starring Adam Sandler\, this is one of the funnest shows to hit Broadway in years!  \n\n\n    Get more information HERE
X-ALT-DESC;FMTTYPE=text/html:<p>\n    It's 1985 and this Tony Award nominated show brings it all back home!&nbsp\; Based on the hit movie starring Adam Sandler\, this is one of the funnest shows to hit Broadway in years!&nbsp\; \n</p>\n<p>\n    Get more information <a href="http://www.mansfieldtickets.com/events/all">HERE</a><a href="http://www.mansfieldtickets.com/events/all"></a><a href="http://www.mansfieldtickets.com/events/all"></a> \n</p>
LOCATION:
UID:e.2256.135
SEQUENCE:3
DTSTAMP:20260425T164630Z
URL:https://portal.richlandareachamber.com/events/details/the-wedding-singer-03-19-2010-135
END:VEVENT

END:VCALENDAR
