BEGIN:VCALENDAR
VERSION:2.0
PRODID:-//ChamberMaster//Event Calendar 2.0//EN
METHOD:PUBLISH
X-PUBLISHED-TTL:P3D
REFRESH-INTERVAL:P3D
CALSCALE:GREGORIAN
BEGIN:VEVENT
DTSTART:20100410T190000Z
DTEND:20100410T190000Z
X-MICROSOFT-CDO-ALLDAYEVENT:FALSE
SUMMARY:The Unforgettable Marvelenes
DESCRIPTION:The greatest 60s girl group is back - and no wardrobe malfunction\, lip syncing disaster\, or bad hair day is going to get in their way as these three indomitable divas take the stage for one final concert.\n\n\n    Get more information HERE
X-ALT-DESC;FMTTYPE=text/html:<p>\n    The greatest 60s girl group is back - and no wardrobe malfunction\, lip syncing disaster\, or bad hair day is going to get in their way as these three indomitable divas take the stage for one final concert.\n</p>\n<p>\n    Get more information <a href="http://www.mansfieldtickets.com/events/all">HERE</a><a href="http://www.mansfieldtickets.com/events/all"></a><a href="http://www.mansfieldtickets.com/events/all"></a> \n</p>
LOCATION:
UID:e.2256.141
SEQUENCE:3
DTSTAMP:20260425T153247Z
URL:https://portal.richlandareachamber.com/events/details/the-unforgettable-marvelenes-04-10-2010-141
END:VEVENT

END:VCALENDAR
