BEGIN:VCALENDAR
VERSION:2.0
PRODID:-//ChamberMaster//Event Calendar 2.0//EN
METHOD:PUBLISH
X-PUBLISHED-TTL:P3D
REFRESH-INTERVAL:P3D
CALSCALE:GREGORIAN
BEGIN:VEVENT
DTSTART;VALUE=DATE:20110322
DTEND;VALUE=DATE:20110323
TRANSP:TRANSPARENT
X-MICROSOFT-CDO-ALLDAYEVENT:TRUE
SUMMARY:The Tartan Terrors
DESCRIPTION:The Tartan Terrors\nTuesday\, March 22nd\, 2011  7:00 PM  Taking the Celtic scene by storm\, the Tartan Terrors\, North America's premiere Celtic Event\, features the best in music\, comedy and dance. Bolstered by the blistering piping of a Two Time World Champion Bagpiper\, the driving tones of drums from around the world\, and a guitar played unlike any you've ever heard!\n\nIn: The CenturyLink Concert Connection\n\n\n\n\n\n\n\n\n\nRenaissance Theatre - www.mansfieldtickets.com - 419-522-2726
X-ALT-DESC;FMTTYPE=text/html:\nThe Tartan Terrors\nTuesday\, March 22nd\, 2011  7:00 PM  Taking the Celtic scene by storm\, the Tartan Terrors\, North America's premiere Celtic Event\, features the best in music\, comedy and dance. Bolstered by the blistering piping of a Two Time World Champion Bagpiper\, the driving tones of drums from around the world\, and a guitar played unlike any you've ever heard!\n\nIn: The CenturyLink Concert Connection\n\n\n\n\n\n\n\n\n\nRenaissance Theatre - www.mansfieldtickets.com - 419-522-2726\n
LOCATION:
UID:e.2256.415
SEQUENCE:3
DTSTAMP:20260424T225451Z
URL:https://portal.richlandareachamber.com/events/details/the-tartan-terrors-03-22-2011-415
END:VEVENT

END:VCALENDAR
