BEGIN:VCALENDAR
VERSION:2.0
PRODID:-//ChamberMaster//Event Calendar 2.0//EN
METHOD:PUBLISH
X-PUBLISHED-TTL:P3D
REFRESH-INTERVAL:P3D
CALSCALE:GREGORIAN
BEGIN:VEVENT
DTSTART:20110917T213000Z
DTEND:20110917T213000Z
X-MICROSOFT-CDO-ALLDAYEVENT:FALSE
SUMMARY:The Shelby Foundation Oktoberfest
DESCRIPTION:5:30 pm - Silent auction bidding opens\; please enjoy cocktails and hors d'oeuvres\n6:45 pm - Welcome presentation\n7:00 pm - Dinner prepared by Carle's Bratwurst\n8:30 pm - Live auction begins\nMusic provided by Albert Entertainment. Feel free to socialize and dance.\n\nVIP table (includes 8 dinner tickets) $350\nDinner ticket $45
X-ALT-DESC;FMTTYPE=text/html:5:30 pm - Silent auction bidding opens\; please enjoy cocktails and hors d'oeuvres\n6:45 pm - Welcome presentation\n7:00 pm - Dinner prepared by Carle's Bratwurst\n8:30 pm - Live auction begins\nMusic provided by Albert Entertainment. Feel free to socialize and dance.\n\nVIP table (includes 8 dinner tickets) $350\nDinner ticket $45
LOCATION:Ralph Phillips Family Cabin
UID:e.2256.611
SEQUENCE:3
DTSTAMP:20260424T121557Z
URL:https://portal.richlandareachamber.com/events/details/the-shelby-foundation-oktoberfest-09-17-2011-611
END:VEVENT

END:VCALENDAR
