BEGIN:VCALENDAR
VERSION:2.0
PRODID:-//ChamberMaster//Event Calendar 2.0//EN
METHOD:PUBLISH
X-PUBLISHED-TTL:P3D
REFRESH-INTERVAL:P3D
CALSCALE:GREGORIAN
BEGIN:VEVENT
DTSTART:20130504T160000Z
DTEND:20130504T210000Z
X-MICROSOFT-CDO-ALLDAYEVENT:FALSE
SUMMARY:The Secret City Tour
DESCRIPTION:
X-ALT-DESC;FMTTYPE=text/html:
LOCATION:Downtown Mansfield
UID:e.2256.744
SEQUENCE:3
DTSTAMP:20260419T185254Z
URL:https://portal.richlandareachamber.com/events/details/the-secret-city-tour-05-04-2013-744
END:VEVENT

END:VCALENDAR
