BEGIN:VCALENDAR
VERSION:2.0
PRODID:-//ChamberMaster//Event Calendar 2.0//EN
METHOD:PUBLISH
X-PUBLISHED-TTL:P3D
REFRESH-INTERVAL:P3D
CALSCALE:GREGORIAN
BEGIN:VEVENT
DTSTART;VALUE=DATE:20110219
DTEND;VALUE=DATE:20110220
TRANSP:TRANSPARENT
X-MICROSOFT-CDO-ALLDAYEVENT:TRUE
SUMMARY:The Russian Snow Maiden
DESCRIPTION:The Russian Snow Maiden\nSaturday\, February 19th\, 20118:00 PMFeaturing one of the great film scores of all time "Dr. Zhivago"\, this exciting program blends the great classics with the new classics\, all while striking imagry is projected on our giant movie screen!\n\nIn: Performance Schedule\n\n\n\n\n\nRenaissance Theatre - www.mansfieldtickets.com - 419-522-2726
X-ALT-DESC;FMTTYPE=text/html:The Russian Snow Maiden\nSaturday\, February 19th\, 20118:00 PMFeaturing one of the great film scores of all time "Dr. Zhivago"\, this exciting program blends the great classics with the new classics\, all while striking imagry is projected on our giant movie screen!\n\nIn: Performance Schedule\n\n\n\n\n\nRenaissance Theatre - www.mansfieldtickets.com - 419-522-2726\n
LOCATION:
UID:e.2256.409
SEQUENCE:3
DTSTAMP:20260425T003523Z
URL:https://portal.richlandareachamber.com/events/details/the-russian-snow-maiden-02-19-2011-409
END:VEVENT

END:VCALENDAR
