BEGIN:VCALENDAR
VERSION:2.0
PRODID:-//ChamberMaster//Event Calendar 2.0//EN
METHOD:PUBLISH
X-PUBLISHED-TTL:P3D
REFRESH-INTERVAL:P3D
CALSCALE:GREGORIAN
BEGIN:VEVENT
DTSTART:20100521T220000Z
DTEND:20100521T220000Z
X-MICROSOFT-CDO-ALLDAYEVENT:FALSE
SUMMARY:The Renaissance Sizzlin Smackdown
DESCRIPTION:You won't want to miss our own version of TV's Iron Chef\, as host Bill Fox and three celebrity judges choose The Ren's Chef of the Year! \n\n\n    Get more information HERE
X-ALT-DESC;FMTTYPE=text/html:<p>\n    You won't want to miss our own version of TV's Iron Chef\, as host Bill Fox and three celebrity judges choose The Ren's Chef of the Year! \n</p>\n<p>\n    Get more information <a href="http://www.mansfieldtickets.com/events/all">HERE</a><a href="http://www.mansfieldtickets.com/events/all"></a><a href="http://www.mansfieldtickets.com/events/all"></a> \n</p>
LOCATION:
UID:e.2256.153
SEQUENCE:3
DTSTAMP:20260425T134230Z
URL:https://portal.richlandareachamber.com/events/details/the-renaissance-sizzlin-smackdown-05-21-2010-153
END:VEVENT

END:VCALENDAR
