BEGIN:VCALENDAR
VERSION:2.0
PRODID:-//ChamberMaster//Event Calendar 2.0//EN
METHOD:PUBLISH
X-PUBLISHED-TTL:P3D
REFRESH-INTERVAL:P3D
CALSCALE:GREGORIAN
BEGIN:VEVENT
DTSTART;VALUE=DATE:20090825
DTEND;VALUE=DATE:20090826
TRANSP:TRANSPARENT
X-MICROSOFT-CDO-ALLDAYEVENT:TRUE
SUMMARY:The Night Sky - Gorman Nature Center
DESCRIPTION:
X-ALT-DESC;FMTTYPE=text/html:
LOCATION:
UID:e.2256.58
SEQUENCE:3
DTSTAMP:20260426T022138Z
URL:https://portal.richlandareachamber.com/events/details/the-night-sky-gorman-nature-center-08-25-2009-58
END:VEVENT

END:VCALENDAR
