BEGIN:VCALENDAR
VERSION:2.0
PRODID:-//ChamberMaster//Event Calendar 2.0//EN
METHOD:PUBLISH
X-PUBLISHED-TTL:P3D
REFRESH-INTERVAL:P3D
CALSCALE:GREGORIAN
BEGIN:VEVENT
DTSTART;VALUE=DATE:20110206
DTEND;VALUE=DATE:20110207
TRANSP:TRANSPARENT
X-MICROSOFT-CDO-ALLDAYEVENT:TRUE
SUMMARY:The Night Sky - Gorman Nature Center
DESCRIPTION:Sun      6-Feb         7:00 PM        The Night Sky - a monthly telescope program at GNC (SM)\n\n\n\n\nFor more information\, please call 419-884-3764     \n2295 Lexington Ave. \, Mansfield\, OH 44907.
X-ALT-DESC;FMTTYPE=text/html:Sun      6-Feb         7:00 PM        The Night Sky - a monthly telescope program at GNC (SM)\n\n\n\n\nFor more information\, please call 419-884-3764     \n2295 Lexington Ave. \, Mansfield\, OH 44907. \n\n
LOCATION:
UID:e.2256.466
SEQUENCE:3
DTSTAMP:20260425T003640Z
URL:https://portal.richlandareachamber.com/events/details/the-night-sky-gorman-nature-center-02-06-2011-466
END:VEVENT

END:VCALENDAR
