BEGIN:VCALENDAR
VERSION:2.0
PRODID:-//ChamberMaster//Event Calendar 2.0//EN
METHOD:PUBLISH
X-PUBLISHED-TTL:P3D
REFRESH-INTERVAL:P3D
CALSCALE:GREGORIAN
BEGIN:VEVENT
DTSTART:20110108T000000Z
DTEND:20110108T000000Z
X-MICROSOFT-CDO-ALLDAYEVENT:FALSE
SUMMARY:''The Music Man Junior'' by Mansfield Youth Theatre with OSU-Mansfield Theatre Department
DESCRIPTION:Friday\, January 7 at 7:00 p.m.\nSaturday\, January 8 at 2:30 & 7:00 p.m.\nSunday\, January 9 at 2:30 p.m.\n\nDirect from Broadway\, this American musical classic follows the adventures of fast-talking traveling salesman Harold Hill and his visit to River City\, Iowa where he meets and falls in love with the willful\,spinter librarian\, Marian Paroo.  With a pop standard that includes "Trouble\," "76 Trombones\," and "Till There Was You\," The Music Man Junior is a perfect production!!!
X-ALT-DESC;FMTTYPE=text/html:Friday\, January 7 at 7:00 p.m.\nSaturday\, January 8 at 2:30 & 7:00 p.m.\nSunday\, January 9 at 2:30 p.m.\n\nDirect from Broadway\, this American musical classic follows the adventures of fast-talking traveling salesman Harold Hill and his visit to River City\, Iowa where he meets and falls in love with the willful\,spinter librarian\, Marian Paroo.  With a pop standard that includes "Trouble\," "76 Trombones\," and "Till There Was You\," The Music Man Junior is a perfect production!!!
LOCATION:At Founders Auditorium and the Ohio State Univeristy at Mansfield Campus.
UID:e.2256.353
SEQUENCE:3
DTSTAMP:20260425T021626Z
URL:https://portal.richlandareachamber.com/events/details/the-music-man-junior-by-mansfield-youth-theatre-with-osu-mansfield-theatre-department-01-07-2011-353
END:VEVENT

END:VCALENDAR
