BEGIN:VCALENDAR
VERSION:2.0
PRODID:-//ChamberMaster//Event Calendar 2.0//EN
METHOD:PUBLISH
X-PUBLISHED-TTL:P3D
REFRESH-INTERVAL:P3D
CALSCALE:GREGORIAN
BEGIN:VEVENT
DTSTART:20100307T010000Z
DTEND:20100307T010000Z
X-MICROSOFT-CDO-ALLDAYEVENT:FALSE
SUMMARY:The Majesty of Mozart- Mass in C Minor
DESCRIPTION:Join the Mansfield symphony and chorus for Mozart's most ambitious and elaborate work for choir and orchestra. \n\n\n    Get more information HERE
X-ALT-DESC;FMTTYPE=text/html:<p>\n    Join the Mansfield symphony and chorus for Mozart's most ambitious and elaborate work for choir and orchestra. \n</p>\n<p>\n    Get more information <a href="http://www.mansfieldtickets.com/events/all">HERE</a><a href="http://www.mansfieldtickets.com/events/all"></a><a href="http://www.mansfieldtickets.com/events/all"></a> \n</p>
LOCATION:
UID:e.2256.132
SEQUENCE:3
DTSTAMP:20260425T165014Z
URL:https://portal.richlandareachamber.com/events/details/the-majesty-of-mozart-mass-in-c-minor-03-06-2010-132
END:VEVENT

END:VCALENDAR
