BEGIN:VCALENDAR
VERSION:2.0
PRODID:-//ChamberMaster//Event Calendar 2.0//EN
METHOD:PUBLISH
X-PUBLISHED-TTL:P3D
REFRESH-INTERVAL:P3D
CALSCALE:GREGORIAN
BEGIN:VEVENT
DTSTART:20100516T210000Z
DTEND:20100516T210000Z
X-MICROSOFT-CDO-ALLDAYEVENT:FALSE
SUMMARY:The Glenn Miller Orchestra
DESCRIPTION:With its unique jazz sound\, the world famous Glenn Miller Orchestra is\, without a doubt\, the greatest Big Band in the land. \n\n\n    Get more information HERE
X-ALT-DESC;FMTTYPE=text/html:<p>\n    With its unique jazz sound\, the world famous Glenn Miller Orchestra is\, without a doubt\, the greatest Big Band in the land. \n</p>\n<p>\n    Get more information <a href="http://www.mansfieldtickets.com/events/all">HERE</a><a href="http://www.mansfieldtickets.com/events/all"></a><a href="http://www.mansfieldtickets.com/events/all"></a> \n</p>
LOCATION:
UID:e.2256.151
SEQUENCE:3
DTSTAMP:20260425T134257Z
URL:https://portal.richlandareachamber.com/events/details/the-glenn-miller-orchestra-05-16-2010-151
END:VEVENT

END:VCALENDAR
