BEGIN:VCALENDAR
VERSION:2.0
PRODID:-//ChamberMaster//Event Calendar 2.0//EN
METHOD:PUBLISH
X-PUBLISHED-TTL:P3D
REFRESH-INTERVAL:P3D
CALSCALE:GREGORIAN
BEGIN:VEVENT
DTSTART:20111023T003000Z
DTEND:20111023T033000Z
X-MICROSOFT-CDO-ALLDAYEVENT:FALSE
SUMMARY:The Caffiends playing second annual Halloween costume party
DESCRIPTION:Join us at Sweeney's American Bistro for our second annual Halloween costume party. Saturday October 22\, from 8:30 - 11:30. Playing live\, The Caffiends. Sure to be a great night! As always no cover\, make your reservations soon!
X-ALT-DESC;FMTTYPE=text/html:Join us at Sweeney's American Bistro for our second annual Halloween costume party. Saturday October 22\, from 8:30 - 11:30. Playing live\, The Caffiends. Sure to be a great night! As always no cover\, make your reservations soon!
LOCATION:On Lexington Ave. Located between Rite-Aid and the Y.
UID:e.2256.621
SEQUENCE:3
DTSTAMP:20260424T111313Z
URL:https://portal.richlandareachamber.com/events/details/the-caffiends-playing-second-annual-halloween-costume-party-10-22-2011-621
END:VEVENT

END:VCALENDAR
