BEGIN:VCALENDAR
VERSION:2.0
PRODID:-//ChamberMaster//Event Calendar 2.0//EN
METHOD:PUBLISH
X-PUBLISHED-TTL:P3D
REFRESH-INTERVAL:P3D
CALSCALE:GREGORIAN
BEGIN:VEVENT
DTSTART:20110612T000000Z
DTEND:20110612T030000Z
X-MICROSOFT-CDO-ALLDAYEVENT:FALSE
SUMMARY:The Caffiends playing live for the first time at Sweeney's American Bistro
DESCRIPTION:The Caffiends for the first time at Sweeney's American Bistro\, Saturday June 11\, 2011\, from 8 - 11 pm. As always no cover\, reservations recommended.
X-ALT-DESC;FMTTYPE=text/html:The Caffiends for the first time at Sweeney's American Bistro\, Saturday June 11\, 2011\, from 8 - 11 pm. As always no cover\, reservations recommended.
LOCATION:777 Lexington Avenue between Rite-Aid and the Y.
UID:e.2256.593
SEQUENCE:3
DTSTAMP:20260424T195554Z
URL:https://portal.richlandareachamber.com/events/details/the-caffiends-playing-live-for-the-first-time-at-sweeney-s-american-bistro-06-11-2011-593
END:VEVENT

END:VCALENDAR
