BEGIN:VCALENDAR
VERSION:2.0
PRODID:-//ChamberMaster//Event Calendar 2.0//EN
METHOD:PUBLISH
X-PUBLISHED-TTL:P3D
REFRESH-INTERVAL:P3D
CALSCALE:GREGORIAN
BEGIN:VEVENT
DTSTART:20120204T170000Z
DTEND:20120205T020000Z
X-MICROSOFT-CDO-ALLDAYEVENT:FALSE
SUMMARY:The 2012 Rehab Center Telethon
DESCRIPTION:The 21st Annual Rehab Center Telethon will be held Saturday\, February 4th from 12:00-9:00\, live at the Richland Mall\, Center Court.  Entertaiment includes live bands\, dancers\, quartets\, clowns\, magicians and more.  All proceeds benefit the Rehab Center.
X-ALT-DESC;FMTTYPE=text/html:The 21st Annual Rehab Center Telethon will be held Saturday\, February 4th from 12:00-9:00\, live at the Richland Mall\, Center Court.  Entertaiment includes live bands\, dancers\, quartets\, clowns\, magicians and more.  All proceeds benefit the Rehab Center.
LOCATION:Richland Mall
UID:e.2256.637
SEQUENCE:3
DTSTAMP:20260422T191153Z
URL:https://portal.richlandareachamber.com/events/details/the-2012-rehab-center-telethon-02-04-2012-637
END:VEVENT

END:VCALENDAR
