BEGIN:VCALENDAR
VERSION:2.0
PRODID:-//ChamberMaster//Event Calendar 2.0//EN
METHOD:PUBLISH
X-PUBLISHED-TTL:P3D
REFRESH-INTERVAL:P3D
CALSCALE:GREGORIAN
BEGIN:VEVENT
DTSTART;VALUE=DATE:20110327
DTEND;VALUE=DATE:20110328
TRANSP:TRANSPARENT
X-MICROSOFT-CDO-ALLDAYEVENT:TRUE
SUMMARY:Teddy Bear Concert 3
DESCRIPTION:Teddy Bear Concert 3\nSunday\, March 27th\, 2011  2:00 PM  During Teddy Bear concerts\, inspired by a popular family concert series at the Kennedy Center\, children bring their favorite stuffed animal to interactive musical programs featuring members of the Mansfield Symphony.\n\nIn: Richland Bank Family Series\n\n\n\n\n\n\n\n\n\n\nRenaissance Theatre - www.mansfieldtickets.com - 419-522-2726
X-ALT-DESC;FMTTYPE=text/html:Teddy Bear Concert 3\nSunday\, March 27th\, 2011  2:00 PM  During Teddy Bear concerts\, inspired by a popular family concert series at the Kennedy Center\, children bring their favorite stuffed animal to interactive musical programs featuring members of the Mansfield Symphony.\n\nIn: Richland Bank Family Series\n\n\n\n\n\n\n\n\n\n\nRenaissance Theatre - www.mansfieldtickets.com - 419-522-2726\n
LOCATION:
UID:e.2256.417
SEQUENCE:3
DTSTAMP:20260424T225446Z
URL:https://portal.richlandareachamber.com/events/details/teddy-bear-concert-3-03-27-2011-417
END:VEVENT

END:VCALENDAR
