BEGIN:VCALENDAR
VERSION:2.0
PRODID:-//ChamberMaster//Event Calendar 2.0//EN
METHOD:PUBLISH
X-PUBLISHED-TTL:P3D
REFRESH-INTERVAL:P3D
CALSCALE:GREGORIAN
BEGIN:VEVENT
DTSTART:20100509T000000Z
DTEND:20100509T000000Z
X-MICROSOFT-CDO-ALLDAYEVENT:FALSE
SUMMARY:Symphonie Romantique- Saint Saens Symphony No. 3
DESCRIPTION:The perfect way for us to unveil our historic\, newly refurbished Mighty Wurlitzer organ\, Saint Saens' majestic "Organ" symphony was composed in 1886\, at the artist zenith of the composer's career. \n\n\n    Get more information HERE
X-ALT-DESC;FMTTYPE=text/html:<p>\n    The perfect way for us to unveil our historic\, newly refurbished Mighty Wurlitzer organ\, Saint Saens' majestic "Organ" symphony was composed in 1886\, at the artist zenith of the composer's career. \n</p>\n<p>\n    Get more information <a href="http://www.mansfieldtickets.com/events/all">HERE</a><a href="http://www.mansfieldtickets.com/events/all"></a><a href="http://www.mansfieldtickets.com/events/all"></a> \n</p>
LOCATION:
UID:e.2256.149
SEQUENCE:3
DTSTAMP:20260425T134410Z
URL:https://portal.richlandareachamber.com/events/details/symphonie-romantique-saint-saens-symphony-no-3-05-08-2010-149
END:VEVENT

END:VCALENDAR
