BEGIN:VCALENDAR
VERSION:2.0
PRODID:-//ChamberMaster//Event Calendar 2.0//EN
METHOD:PUBLISH
X-PUBLISHED-TTL:P3D
REFRESH-INTERVAL:P3D
CALSCALE:GREGORIAN
BEGIN:VEVENT
DTSTART:20130531T220000Z
DTEND:20130601T030000Z
X-MICROSOFT-CDO-ALLDAYEVENT:FALSE
SUMMARY:Symbiosis
DESCRIPTION:Neos Dance Theatre and local musical groups La De Les\, Trouper\, Other Kin\, and Timbre join forces to premier a new evening of dance and music for Mansfield audiences in the Old Eagles Building\, an alternative and cutting-edge space. \n\nThe first two floors of the building will feature local artists\, live musicians\, installation projects\, as well as fine coffees and light hors d'oeuvres provided by The Coffee House.  \n\nDoors open at 6:00 pm.\n\nAt 7:30 and 9:00 pm\, Neos Dance Theatre will premier new choreographic work by artistic director Bobby Wesner in the third-floor ballroom.\n\nTickets: neosdancetheatre.eventbrite.com\nMore info: (419)651-4938
X-ALT-DESC;FMTTYPE=text/html:Neos Dance Theatre and local musical groups La De Les\, Trouper\, Other Kin\, and Timbre join forces to premier a new evening of dance and music for Mansfield audiences in the Old Eagles Building\, an alternative and cutting-edge space. \n\nThe first two floors of the building will feature local artists\, live musicians\, installation projects\, as well as fine coffees and light hors d'oeuvres provided by The Coffee House.  \n\nDoors open at 6:00 pm.\n\nAt 7:30 and 9:00 pm\, Neos Dance Theatre will premier new choreographic work by artistic director Bobby Wesner in the third-floor ballroom.\n\nTickets: neosdancetheatre.eventbrite.com\nMore info: (419)651-4938
LOCATION:The Old Eagles Building 129 North Main Street Mansfield\, OH 44902
UID:e.2256.794
SEQUENCE:3
DTSTAMP:20260419T185058Z
URL:https://portal.richlandareachamber.com/events/details/symbiosis-05-31-2013-794
END:VEVENT

END:VCALENDAR
