BEGIN:VCALENDAR
VERSION:2.0
PRODID:-//ChamberMaster//Event Calendar 2.0//EN
METHOD:PUBLISH
X-PUBLISHED-TTL:P3D
REFRESH-INTERVAL:P3D
CALSCALE:GREGORIAN
BEGIN:VEVENT
DTSTART:20100214T200000Z
DTEND:20100214T050000Z
X-MICROSOFT-CDO-ALLDAYEVENT:FALSE
SUMMARY:Sweetheart Hike to Hemlock Falls
DESCRIPTION:Hemlock Falls is a very romantic 80 foot waterfall.  Bring your sweetheart and join us for a guided hike to the falls.  A wine/beverage and cheese reception will follow in the Mohican Outdoor School Field Trip Center.  The hike will leave at 3:00PM from the Field Trip center located at 5391 Bunker Hill North Road\, Butler\, OH.  Alcoholic beverages will not be served to persons under the age of 21 years. Cost is $12.00 per person. Proceeds will go to the Environmental Learning Center
X-ALT-DESC;FMTTYPE=text/html:Hemlock Falls is a very romantic 80 foot waterfall.  Bring your sweetheart and join us for a guided hike to the falls.  A wine/beverage and cheese reception will follow in the Mohican Outdoor School Field Trip Center.  The hike will leave at 3:00PM from the Field Trip center located at 5391 Bunker Hill North Road\, Butler\, OH.  Alcoholic beverages will not be served to persons under the age of 21 years. Cost is $12.00 per person. Proceeds will go to the Environmental Learning Center
LOCATION:Mohican Outdoor School Hemlock Falls Field Trip Center 5391 Bunker Hill Rd. N. Butler\, Ohio 44822 N 40.612774\, W82.381613
UID:e.2256.263
SEQUENCE:3
DTSTAMP:20260425T192146Z
URL:https://portal.richlandareachamber.com/events/details/sweetheart-hike-to-hemlock-falls-02-14-2010-263
END:VEVENT

END:VCALENDAR
