BEGIN:VCALENDAR
VERSION:2.0
PRODID:-//ChamberMaster//Event Calendar 2.0//EN
METHOD:PUBLISH
X-PUBLISHED-TTL:P3D
REFRESH-INTERVAL:P3D
CALSCALE:GREGORIAN
BEGIN:VEVENT
DTSTART:20110213T200000Z
DTEND:20110213T220000Z
X-MICROSOFT-CDO-ALLDAYEVENT:FALSE
SUMMARY:Sweet Heart Hike to Hemlock Falls
DESCRIPTION:Hemlock Falls is a very romantic 80 foot waterfall.  Bring your \nSweetheart and join us for a guided hike to the falls.  A wine/beverage and cheese reception will follow in the Mohican Outdoor School Environmental Learning Center.  The hikes will leave at 3:00 PM from the Hemlock Falls center located at 5391 Bunker Hill North Road\, Butler\, OH.  Alcoholic beverages will not be served to persons under the age of 21 years. The cost is $12.00 per person: all proceeds will benefit Mohican Outdoor School. Call us at 419-938-6671 or\n e-mail info@mohicanoutdoorschool.org for ticket information.
X-ALT-DESC;FMTTYPE=text/html:Hemlock Falls is a very romantic 80 foot waterfall.  Bring your \nSweetheart and join us for a guided hike to the falls.  A wine/beverage and cheese reception will follow in the Mohican Outdoor School Environmental Learning Center.  The hikes will leave at 3:00 PM from the Hemlock Falls center located at 5391 Bunker Hill North Road\, Butler\, OH.  Alcoholic beverages will not be served to persons under the age of 21 years. The cost is $12.00 per person: all proceeds will benefit Mohican Outdoor School. Call us at 419-938-6671 or\n e-mail info@mohicanoutdoorschool.org for ticket information. \n
LOCATION:Hemlock Falls Center is on the east side of Bunker Hill Rd. Bunker Hill N. is between Rt. 97 & Rt. 95.
UID:e.2256.382
SEQUENCE:3
DTSTAMP:20260425T021140Z
URL:https://portal.richlandareachamber.com/events/details/sweet-heart-hike-to-hemlock-falls-02-13-2011-382
END:VEVENT

END:VCALENDAR
