BEGIN:VCALENDAR
VERSION:2.0
PRODID:-//ChamberMaster//Event Calendar 2.0//EN
METHOD:PUBLISH
X-PUBLISHED-TTL:P3D
REFRESH-INTERVAL:P3D
CALSCALE:GREGORIAN
BEGIN:VEVENT
DTSTART:20110429T120000Z
DTEND:20110429T203000Z
X-MICROSOFT-CDO-ALLDAYEVENT:FALSE
SUMMARY:Successful Interventions with Autism using Evidence-Based Strategies
DESCRIPTION:Guest Speaker: Dr. David Meichenbaum Renowned Speaker and Psychologist who specializes in the field of autism intervention and treatment. \n\n\n    Founder's Auditorium OSU-Mansfield   Ovalwood Building \n\n\n    Parking & workshop is 'FREE' for all who wish to attend! Continuing education credits applied for: Social Work\, Nursing\, OT\, PT and Speech Therapy\; Ohio Department of Developmental Disabilities\, and Ohio Department of Education \n\n\n     \n\n\n    REGISTRATION FORM   PLEASE SUBMIT YOUR REGISTRATION ON-LINE http://www.rnewhope.org/docs/AutismWorkshopRegistrationFlyer.pdf OR MAIL TO: RICHLAND NEWHOPE - 255 HEDGES STREET - MANSFIELD\, OH 44902 OR FAX: 419-774-4375 NO LATER THAN APRIL 22nd\, 2011 Name: _______________________________________________ E-Mail: _______________________________________ Facility: _____________________________________________ Phone: _______________________________________ Address: __________________________________________________________________________________________\n    City & ZIP ___________________________________________ Fax: __________________________________________ Please indicate your credentials: Parent OT PT SP Teacher Other: _________________
X-ALT-DESC;FMTTYPE=text/html:<p>\n    Guest Speaker: Dr. David Meichenbaum Renowned Speaker and Psychologist who specializes in the field of autism intervention and treatment. \n</p>\n<p>\n    Founder&rsquo\;s Auditorium OSU-Mansfield &ndash\; Ovalwood Building \n</p>\n<p>\n    Parking &amp\; workshop is &lsquo\;FREE&rsquo\; for all who wish to attend! Continuing education credits applied for: Social Work\, Nursing\, OT\, PT and Speech Therapy\; Ohio Department of Developmental Disabilities\, and Ohio Department of Education \n</p>\n<p>\n    &nbsp\;\n</p>\n<p>\n    REGISTRATION FORM &mdash\; PLEASE SUBMIT YOUR REGISTRATION ON-LINE http://www.rnewhope.org/docs/AutismWorkshopRegistrationFlyer.pdf OR MAIL TO: RICHLAND NEWHOPE - 255 HEDGES STREET - MANSFIELD\, OH 44902 OR FAX: 419-774-4375 NO LATER THAN APRIL 22nd\, 2011 Name: _______________________________________________ E-Mail: _______________________________________ Facility: _____________________________________________ Phone: _______________________________________ Address: __________________________________________________________________________________________\n    City &amp\; ZIP ___________________________________________ Fax: __________________________________________ Please indicate your credentials: Parent OT PT SP Teacher Other: _________________\n</p>
LOCATION:
UID:e.2256.583
SEQUENCE:3
DTSTAMP:20260424T212417Z
URL:https://portal.richlandareachamber.com/events/details/successful-interventions-with-autism-using-evidence-based-strategies-04-29-2011-583
END:VEVENT

END:VCALENDAR
