BEGIN:VCALENDAR
VERSION:2.0
PRODID:-//ChamberMaster//Event Calendar 2.0//EN
METHOD:PUBLISH
X-PUBLISHED-TTL:P3D
REFRESH-INTERVAL:P3D
CALSCALE:GREGORIAN
BEGIN:VEVENT
DTSTART:20120623T133000Z
DTEND:20120623T160000Z
X-MICROSOFT-CDO-ALLDAYEVENT:FALSE
SUMMARY:Steppin' Out For Life Walk-a-Thon
DESCRIPTION:A 2 mile walk to benefit the free services offered at Richland Pregnancy Services\, to young women and men facing an unplanned pregnancy.\nRegister on line at www.richlandpregnancy.com or on the RPS Facebook page. Registration brochures/pledge forms and poster are available by calling 419-522-8863.
X-ALT-DESC;FMTTYPE=text/html:A 2 mile walk to benefit the free services offered at Richland Pregnancy Services\, to young women and men facing an unplanned pregnancy.\nRegister on line at www.richlandpregnancy.com or on the RPS Facebook page. Registration brochures/pledge forms and poster are available by calling 419-522-8863.
LOCATION:Lexington Community Park on the bike trail just behind the ball fields.
UID:e.2256.664
SEQUENCE:3
DTSTAMP:20260422T112908Z
URL:https://portal.richlandareachamber.com/events/details/steppin-out-for-life-walk-a-thon-06-23-2012-664
END:VEVENT

END:VCALENDAR
