BEGIN:VCALENDAR
VERSION:2.0
PRODID:-//ChamberMaster//Event Calendar 2.0//EN
METHOD:PUBLISH
X-PUBLISHED-TTL:P3D
REFRESH-INTERVAL:P3D
CALSCALE:GREGORIAN
BEGIN:VEVENT
DTSTART:20110920T140000Z
DTEND:20110920T170000Z
X-MICROSOFT-CDO-ALLDAYEVENT:FALSE
SUMMARY:St. Peter's District Clean-up
DESCRIPTION:Neighborhood clean up
X-ALT-DESC;FMTTYPE=text/html:Neighborhood clean up
LOCATION:Franciscan Activity Center parking lot
UID:e.2256.531
SEQUENCE:3
DTSTAMP:20260424T121148Z
URL:https://portal.richlandareachamber.com/events/details/st-peter-s-district-clean-up-09-20-2011-531
END:VEVENT

END:VCALENDAR
