BEGIN:VCALENDAR
VERSION:2.0
PRODID:-//ChamberMaster//Event Calendar 2.0//EN
METHOD:PUBLISH
X-PUBLISHED-TTL:P3D
REFRESH-INTERVAL:P3D
CALSCALE:GREGORIAN
BEGIN:VEVENT
DTSTART:20110524T140000Z
DTEND:20110524T170000Z
X-MICROSOFT-CDO-ALLDAYEVENT:FALSE
SUMMARY:St. Peter's District Clean-up
DESCRIPTION:Neighborhood clean up
X-ALT-DESC;FMTTYPE=text/html:Neighborhood clean up
LOCATION:Franciscan Activity Center parking lot
UID:e.2256.530
SEQUENCE:3
DTSTAMP:20260424T195252Z
URL:https://portal.richlandareachamber.com/events/details/st-peter-s-district-clean-up-05-24-2011-530
END:VEVENT

END:VCALENDAR
