BEGIN:VCALENDAR
VERSION:2.0
PRODID:-//ChamberMaster//Event Calendar 2.0//EN
METHOD:PUBLISH
X-PUBLISHED-TTL:P3D
REFRESH-INTERVAL:P3D
CALSCALE:GREGORIAN
BEGIN:VEVENT
DTSTART:20130522T140000Z
DTEND:20130522T140000Z
X-MICROSOFT-CDO-ALLDAYEVENT:FALSE
SUMMARY:St. Peter's Cleanup
DESCRIPTION:
X-ALT-DESC;FMTTYPE=text/html:
LOCATION:St. Peter's District
UID:e.2256.745
SEQUENCE:3
DTSTAMP:20260419T203248Z
URL:https://portal.richlandareachamber.com/events/details/st-peter-s-cleanup-05-22-2013-745
END:VEVENT

END:VCALENDAR
