BEGIN:VCALENDAR
VERSION:2.0
PRODID:-//ChamberMaster//Event Calendar 2.0//EN
METHOD:PUBLISH
X-PUBLISHED-TTL:P3D
REFRESH-INTERVAL:P3D
CALSCALE:GREGORIAN
BEGIN:VEVENT
DTSTART:20120315T120000Z
DTEND:20120317T050000Z
X-MICROSOFT-CDO-ALLDAYEVENT:FALSE
SUMMARY:St Patricks Day Celebration
DESCRIPTION:Serving Green Beer\, Green eggs and ham all day. karaoke at 9pm
X-ALT-DESC;FMTTYPE=text/html:Serving Green Beer\, Green eggs and ham all day. karaoke at 9pm
LOCATION:Park Lanes 1410 PAW Mansfield\, OH 44906
UID:e.2256.659
SEQUENCE:3
DTSTAMP:20260422T175636Z
URL:https://portal.richlandareachamber.com/events/details/st-patricks-day-celebration-03-15-2012-659
END:VEVENT

END:VCALENDAR
