BEGIN:VCALENDAR
VERSION:2.0
PRODID:-//ChamberMaster//Event Calendar 2.0//EN
METHOD:PUBLISH
X-PUBLISHED-TTL:P3D
REFRESH-INTERVAL:P3D
CALSCALE:GREGORIAN
BEGIN:VEVENT
DTSTART:20130316T150000Z
DTEND:20130316T150000Z
X-MICROSOFT-CDO-ALLDAYEVENT:FALSE
SUMMARY:St. Patrick's Day Eve Storytime
DESCRIPTION:We at Main Street Books had such a great time at last year's St. Patrick's Day storytime that we're doing it again! Bring along your little leprechauns and join us for a St. Patrick's Day Eve Storytime on Saturday\, March 16 at 11am.\n\nStoryteller Carol Au will be reading again from books about the holiday\, featuring The Night Before St. Patrick's Day\, written by Natasha Wing and illustrated by Amy Wummer. Read to the cadence of ‘Twas the Night Before Christmas\, this adorable story tells the tale of two children who want to capture a leprechaun and take his gold. Those little sprites are tough to catch! After the story we'll be making our own leprechaun traps with Ms. Cindy. This event is perfect for the little ones up to 8 years old.
X-ALT-DESC;FMTTYPE=text/html:We at Main Street Books had such a great time at last year's St. Patrick's Day storytime that we're doing it again! Bring along your little leprechauns and join us for a St. Patrick's Day Eve Storytime on Saturday\, March 16 at 11am.\n\nStoryteller Carol Au will be reading again from books about the holiday\, featuring The Night Before St. Patrick's Day\, written by Natasha Wing and illustrated by Amy Wummer. Read to the cadence of ‘Twas the Night Before Christmas\, this adorable story tells the tale of two children who want to capture a leprechaun and take his gold. Those little sprites are tough to catch! After the story we'll be making our own leprechaun traps with Ms. Cindy. This event is perfect for the little ones up to 8 years old.
LOCATION:Main Street Books
UID:e.2256.730
SEQUENCE:3
DTSTAMP:20260419T222237Z
URL:https://portal.richlandareachamber.com/events/details/st-patrick-s-day-eve-storytime-03-16-2013-730
END:VEVENT

END:VCALENDAR
