BEGIN:VCALENDAR
VERSION:2.0
PRODID:-//ChamberMaster//Event Calendar 2.0//EN
METHOD:PUBLISH
X-PUBLISHED-TTL:P3D
REFRESH-INTERVAL:P3D
CALSCALE:GREGORIAN
BEGIN:VEVENT
DTSTART:20130315T210000Z
DTEND:20130315T223000Z
X-MICROSOFT-CDO-ALLDAYEVENT:FALSE
SUMMARY:St. Patrick's Day Celebration
DESCRIPTION:Follow the end of the rainbow to Sterling House for a St. Patrick'scelebration on March 15th!  You'll enjoy Irish appetizers\, green beer\, live music  s a great way to discoer why Sterling House mansfield is such an exceptional place to live.\n\nPlease RSVP with megan or Amy by March 8th\, at \n419-756-5599.
X-ALT-DESC;FMTTYPE=text/html:Follow the end of the rainbow to Sterling House for a St. Patrick'scelebration on March 15th!  You'll enjoy Irish appetizers\, green beer\, live music & door prizes! If you have a friend or family member who is thinking about retirement living\, why not introduce them to our community through this fun event?  It\;s a great way to discoer why Sterling House mansfield is such an exceptional place to live.\n\nPlease RSVP with megan or Amy by March 8th\, at \n419-756-5599.
LOCATION:1841 Middle Bellville Road Mansfield\, Ohio 44904
UID:e.2256.732
SEQUENCE:3
DTSTAMP:20260419T221916Z
URL:https://portal.richlandareachamber.com/events/details/st-patrick-s-day-celebration-03-15-2013-732
END:VEVENT

END:VCALENDAR
