BEGIN:VCALENDAR
VERSION:2.0
PRODID:-//ChamberMaster//Event Calendar 2.0//EN
METHOD:PUBLISH
X-PUBLISHED-TTL:P3D
REFRESH-INTERVAL:P3D
CALSCALE:GREGORIAN
BEGIN:VEVENT
DTSTART:20120908T190000Z
DTEND:20120909T210000Z
X-MICROSOFT-CDO-ALLDAYEVENT:FALSE
SUMMARY:St. Mary's of the Snow Festival
DESCRIPTION:Saturday 8th - Spaghetti Supper (includes bread\, salad\, dessert and drink) $6. adults $3. young children. Serving at 4:30 p.m.\nSunday 9th - Chicken\, Lamb and Pork Dinner (includes bread\, salad\, dessert and drink) $8. adults $4. young children. Serving at 11:30 a.m.\nSophistication Dance Company Dancers at 5:30 p.m. Saturday\nLeiderkrantz Youth Dancers at 1:30 p.m. Sunday.\nBoth days there will Games for all ages including Frontier land\,Bingo 3 - 8\, Food Court with sandwiches\, french fries\, egg rolls\, funnel cakes\, snow cones\, cotton candy and popcorn outsid\, with a Silent Auction in 6th grade room & Flea Market in basement.  Drawings for Quilt and Fundraising Raffle for $$$ will take place after the Auction starting at 5:00 p.m.
X-ALT-DESC;FMTTYPE=text/html:Saturday 8th - Spaghetti Supper (includes bread\, salad\, dessert and drink) $6. adults $3. young children. Serving at 4:30 p.m.\nSunday 9th - Chicken\, Lamb and Pork Dinner (includes bread\, salad\, dessert and drink) $8. adults $4. young children. Serving at 11:30 a.m.\nSophistication Dance Company Dancers at 5:30 p.m. Saturday\nLeiderkrantz Youth Dancers at 1:30 p.m. Sunday.\nBoth days there will Games for all ages including Frontier land\,Bingo 3 - 8\, Food Court with sandwiches\, french fries\, egg rolls\, funnel cakes\, snow cones\, cotton candy and popcorn outsid\, with a Silent Auction in 6th grade room & Flea Market in basement.  Drawings for Quilt and Fundraising Raffle for $$$ will take place after the Auction starting at 5:00 p.m. 
LOCATION:St. Mary's of the Snow Church\, 1630 Ashland Road\, Mansfield\, Ohio
UID:e.2256.681
SEQUENCE:3
DTSTAMP:20260420T080453Z
URL:https://portal.richlandareachamber.com/events/details/st-mary-s-of-the-snow-festival-09-08-2012-681
END:VEVENT

END:VCALENDAR
