BEGIN:VCALENDAR
VERSION:2.0
PRODID:-//ChamberMaster//Event Calendar 2.0//EN
METHOD:PUBLISH
X-PUBLISHED-TTL:P3D
REFRESH-INTERVAL:P3D
CALSCALE:GREGORIAN
BEGIN:VEVENT
DTSTART:20121103T203000Z
DTEND:20121103T203000Z
X-MICROSOFT-CDO-ALLDAYEVENT:FALSE
SUMMARY:St. Mary's MaMa Lucci Italian Spaghetti Dinner
DESCRIPTION:MaMa Lucci's Café: Authentic Italian Spaghetti with salad\, bread sticks or Texas Toast\, dessert and drink.  November 3\, 2012\, serving starts at 4:30 p.m. Cost for this all-you-can-eat dinner is $7.00 for adults $3.50 for children\, free under three. Public is invited.  Fundraiser for St. Mary's School by Rosary Altar Society.
X-ALT-DESC;FMTTYPE=text/html:MaMa Lucci's Café: Authentic Italian Spaghetti with salad\, bread sticks or Texas Toast\, dessert and drink.  November 3\, 2012\, serving starts at 4:30 p.m. Cost for this all-you-can-eat dinner is $7.00 for adults $3.50 for children\, free under three. Public is invited.  Fundraiser for St. Mary's School by Rosary Altar Society.
LOCATION:St. Mary's of the Snow's Cafeteria\, 1630 Ashland Road\, Mansfield\, Ohio 44905
UID:e.2256.697
SEQUENCE:3
DTSTAMP:20260420T045402Z
URL:https://portal.richlandareachamber.com/events/details/st-mary-s-mama-lucci-italian-spaghetti-dinner-11-03-2012-697
END:VEVENT

END:VCALENDAR
