BEGIN:VCALENDAR
VERSION:2.0
PRODID:-//ChamberMaster//Event Calendar 2.0//EN
METHOD:PUBLISH
X-PUBLISHED-TTL:P3D
REFRESH-INTERVAL:P3D
CALSCALE:GREGORIAN
BEGIN:VEVENT
DTSTART:20100306T153000Z
DTEND:20100307T043000Z
X-MICROSOFT-CDO-ALLDAYEVENT:FALSE
SUMMARY:Square Foot Gardening
DESCRIPTION:Are you tired of weeding your garden? What if your garden used 20% of the space and 10% of the water of a conventional garden? This SAME garden uses 5% of the seed\, requires 2% of the work and produces 5 TIMES the harvest! Impossible\, you say? Square Foot Gardening can do all of this! Join us for a 1 hour presentation followed by a question and answer session to learn more about this innovative raised-bed gardening method"ideal for those with physical limitations or living in an urban setting and makes a great family project. The Square Foot Gardening method is user friendly\, so it is perfect for beginners to gardening! This is a free Workshop. Pre-registration is requested.
X-ALT-DESC;FMTTYPE=text/html:   Are you tired of weeding your garden? What if your garden used 20% of the space and 10% of the water of a conventional garden? This SAME garden uses 5% of the seed\, requires 2% of the work and produces 5 TIMES the harvest! Impossible\, you say? Square Foot Gardening can do all of this! Join us for a 1 hour presentation followed by a question and answer session to learn more about this innovative raised-bed gardening method"ideal for those with physical limitations or living in an urban setting and makes a great family project. The Square Foot Gardening method is user friendly\, so it is perfect for beginners to gardening! This is a free Workshop. Pre-registration is requested. \n 
LOCATION:Mohican School In the Out of Doors 5370 Bunkerhill Rd. N. Butler\,Ohio 44822.
UID:e.2256.282
SEQUENCE:3
DTSTAMP:20260425T164730Z
URL:https://portal.richlandareachamber.com/events/details/square-foot-gardening-03-06-2010-282
END:VEVENT

END:VCALENDAR
