BEGIN:VCALENDAR
VERSION:2.0
PRODID:-//ChamberMaster//Event Calendar 2.0//EN
METHOD:PUBLISH
X-PUBLISHED-TTL:P3D
REFRESH-INTERVAL:P3D
CALSCALE:GREGORIAN
BEGIN:VEVENT
DTSTART:20110505T230000Z
DTEND:20110505T230000Z
X-MICROSOFT-CDO-ALLDAYEVENT:FALSE
SUMMARY:Spring Theatre Production
DESCRIPTION:The 25th Annual Putnam County Spelling Bee\nMusic & Lyrics by William Finn\, book by Rachel Sheinkin\n\nThis hilarious tale of overachievers angst chronicle the experience of six adolescent outsiders vying for the spelling championship of a lifetime.  The show's Tony Award winning creative team has created the unlikeliest of hit musicals about the unlikeliest of heroes.  These young people in the throes of puberty\, overseen by grown-ups who barely managed to escape childhood themselves\, learn that winning isn't everything and losing doesn't necessarily make you a loser.
X-ALT-DESC;FMTTYPE=text/html:The 25th Annual Putnam County Spelling Bee\nMusic & Lyrics by William Finn\, book by Rachel Sheinkin\n\nThis hilarious tale of overachievers angst chronicle the experience of six adolescent outsiders vying for the spelling championship of a lifetime.  The show's Tony Award winning creative team has created the unlikeliest of hit musicals about the unlikeliest of heroes.  These young people in the throes of puberty\, overseen by grown-ups who barely managed to escape childhood themselves\, learn that winning isn't everything and losing doesn't necessarily make you a loser.
LOCATION:Founders Auditorium at The Ohio State University at Mansfield
UID:e.2256.345
SEQUENCE:3
DTSTAMP:20260424T195212Z
URL:https://portal.richlandareachamber.com/events/details/spring-theatre-production-05-05-2011-345
END:VEVENT

END:VCALENDAR
