BEGIN:VCALENDAR
VERSION:2.0
PRODID:-//ChamberMaster//Event Calendar 2.0//EN
METHOD:PUBLISH
X-PUBLISHED-TTL:P3D
REFRESH-INTERVAL:P3D
CALSCALE:GREGORIAN
BEGIN:VEVENT
DTSTART:20250502T140000Z
DTEND:20250504T223000Z
X-MICROSOFT-CDO-ALLDAYEVENT:FALSE
SUMMARY:Spring Plant Market
DESCRIPTION:Don't miss Kingwood's annual Spring Plant Market\, including: Herbs and veggies\, including heirloom varieties Annuals\, perennials\, trees\, shrubs\, and more Garden experts on hand for questions
X-ALT-DESC;FMTTYPE=text/html:Don&rsquo\;t miss Kingwood&rsquo\;s annual Spring Plant Market\, including: Herbs and veggies\, including heirloom varieties Annuals\, perennials\, trees\, shrubs\, and more Garden experts on hand for questions
LOCATION:Kingwood Center Gardens 50 Trimble Rd Mansfield\, Ohio 44903
UID:e.2256.6205
SEQUENCE:3
DTSTAMP:20260422T034617Z
URL:https://portal.richlandareachamber.com/events/details/spring-plant-market-05-02-2025-6205
END:VEVENT

END:VCALENDAR
