BEGIN:VCALENDAR
VERSION:2.0
PRODID:-//ChamberMaster//Event Calendar 2.0//EN
METHOD:PUBLISH
X-PUBLISHED-TTL:P3D
REFRESH-INTERVAL:P3D
CALSCALE:GREGORIAN
BEGIN:VEVENT
DTSTART:20111029T180000Z
DTEND:20111029T180000Z
X-MICROSOFT-CDO-ALLDAYEVENT:FALSE
SUMMARY:Spooky Storytime
DESCRIPTION:Join us for a frightfully fun afternoon of spooky stories\, a creepy craft\, and refreshments. Kids of all ages are welcome! Wear your costume and help us celebrate Halloween!
X-ALT-DESC;FMTTYPE=text/html:Join us for a frightfully fun afternoon of spooky stories\, a creepy craft\, and refreshments. Kids of all ages are welcome! Wear your costume and help us celebrate Halloween!
LOCATION:104 North Main Street Downtown Mansfield\; Located in the historic Carrousel District.
UID:e.2256.624
SEQUENCE:3
DTSTAMP:20260424T111012Z
URL:https://portal.richlandareachamber.com/events/details/spooky-storytime-10-29-2011-624
END:VEVENT

END:VCALENDAR
