BEGIN:VCALENDAR
VERSION:2.0
PRODID:-//ChamberMaster//Event Calendar 2.0//EN
METHOD:PUBLISH
X-PUBLISHED-TTL:P3D
REFRESH-INTERVAL:P3D
CALSCALE:GREGORIAN
BEGIN:VEVENT
DTSTART;VALUE=DATE:20100123
DTEND;VALUE=DATE:20100124
TRANSP:TRANSPARENT
X-MICROSOFT-CDO-ALLDAYEVENT:TRUE
SUMMARY:Snow Trails Big Air Competition
DESCRIPTION:The Big Air Competition is always as much of a thrill for the spectator as the competitor! Taking place at the base of the Competition Slope at Snow Trails\, contestants will launch into the air\, performing multiple tricks and spins\, while spanning a 50-60 ft. gap\, all taking place under the lights during this evening event. Open to all skiers and snowboarders. \n\n\n\nRegistration: 9:30AM to 5:00PM at the Informaion desk in the main lodge. \n\n\nEntry Fee: $10 \n\n\nPractice: 3:00PM- 5:00PM \n\n\nHelmet & Signed Waiver (by parent or legal guardian if under 18) Mandatory. \n\n\nParticipants must have a valid lift ticket. \n\n\n\nFor more information\, please call 800-332-SNOW or visit www.snowtrails.com 3100 Possum Run Road \, Mansfield\, OH 44903.
X-ALT-DESC;FMTTYPE=text/html:The Big Air Competition is always as much of a thrill for the spectator as the competitor! Taking place at the base of the Competition Slope at Snow Trails\, contestants will launch into the air\, performing multiple tricks and spins\, while spanning a 50-60 ft. gap\, all taking place under the lights during this evening event. Open to all skiers and snowboarders. <br>\n<br />\nRegistration: 9:30AM to 5:00PM at the Informaion desk in the main lodge. \n<br />\nEntry Fee: $10 \n<br />\nPractice: 3:00PM- 5:00PM \n<br />\nHelmet &amp\; Signed Waiver (by parent or legal guardian if under 18) Mandatory. \n<br />\nParticipants must have a valid lift ticket. \n<br />\n<br />For more information\, please call 800-332-SNOW or visit www.snowtrails.com 3100 Possum Run Road \, Mansfield\, OH 44903.
LOCATION:
UID:e.2256.173
SEQUENCE:3
DTSTAMP:20260425T192520Z
URL:https://portal.richlandareachamber.com/events/details/snow-trails-big-air-competition-01-23-2010-173
END:VEVENT

END:VCALENDAR
