BEGIN:VCALENDAR
VERSION:2.0
PRODID:-//ChamberMaster//Event Calendar 2.0//EN
METHOD:PUBLISH
X-PUBLISHED-TTL:P3D
REFRESH-INTERVAL:P3D
CALSCALE:GREGORIAN
BEGIN:VEVENT
DTSTART;VALUE=DATE:20110130
DTEND;VALUE=DATE:20110131
TRANSP:TRANSPARENT
X-MICROSOFT-CDO-ALLDAYEVENT:TRUE
SUMMARY:''Snake\, Rattle & Roll'' - Gorman Nature Center
DESCRIPTION:Sun      30-Jan        2:00 PM       ''Snake\, Rattle & Roll'' - snakes may be cold-blooded\, but you \n                                                    don't have to be in a cold sweat around snakes- learn about \n                                                     local snakes and overcome your fears   (SM)\n\n\n\n\nFor more information\, please call 419-884-3764     \n2295 Lexington Ave. \, Mansfield\, OH 44907.
X-ALT-DESC;FMTTYPE=text/html:Sun      30-Jan        2:00 PM       ''Snake\, Rattle & Roll'' - snakes may be cold-blooded\, but you \n                                                    don't have to be in a cold sweat around snakes- learn about \n                                                     local snakes and overcome your fears   (SM)\n\n\n\n\nFor more information\, please call 419-884-3764     \n2295 Lexington Ave. \, Mansfield\, OH 44907. \n\n
LOCATION:
UID:e.2256.465
SEQUENCE:3
DTSTAMP:20260425T021036Z
URL:https://portal.richlandareachamber.com/events/details/snake-rattle-roll-gorman-nature-center-01-30-2011-465
END:VEVENT

END:VCALENDAR
